BEGIN:VCALENDAR
VERSION:2.0
PRODID:-//Owyhee County Idaho - ECPv6.15.20//NONSGML v1.0//EN
CALSCALE:GREGORIAN
METHOD:PUBLISH
X-WR-CALNAME:Owyhee County Idaho
X-ORIGINAL-URL:https://owyheecounty.net
X-WR-CALDESC:Events for Owyhee County Idaho
REFRESH-INTERVAL;VALUE=DURATION:PT1H
X-Robots-Tag:noindex
X-PUBLISHED-TTL:PT1H
BEGIN:VTIMEZONE
TZID:America/Boise
BEGIN:DAYLIGHT
TZOFFSETFROM:-0700
TZOFFSETTO:-0600
TZNAME:MDT
DTSTART:20250309T090000
END:DAYLIGHT
BEGIN:STANDARD
TZOFFSETFROM:-0600
TZOFFSETTO:-0700
TZNAME:MST
DTSTART:20251102T080000
END:STANDARD
BEGIN:DAYLIGHT
TZOFFSETFROM:-0700
TZOFFSETTO:-0600
TZNAME:MDT
DTSTART:20260308T090000
END:DAYLIGHT
BEGIN:STANDARD
TZOFFSETFROM:-0600
TZOFFSETTO:-0700
TZNAME:MST
DTSTART:20261101T080000
END:STANDARD
BEGIN:DAYLIGHT
TZOFFSETFROM:-0700
TZOFFSETTO:-0600
TZNAME:MDT
DTSTART:20270314T090000
END:DAYLIGHT
BEGIN:STANDARD
TZOFFSETFROM:-0600
TZOFFSETTO:-0700
TZNAME:MST
DTSTART:20271107T080000
END:STANDARD
END:VTIMEZONE
BEGIN:VEVENT
DTSTART;TZID=America/Boise:20260627T110000
DTEND;TZID=America/Boise:20260627T160000
DTSTAMP:20260424T083443
CREATED:20260327T223307Z
LAST-MODIFIED:20260327T224003Z
UID:18776-1782558000-1782576000@owyheecounty.net
SUMMARY:Let's Celebrate America's 250th
DESCRIPTION:America 250 Flyer 2
URL:https://owyheecounty.net/event/18776/
LOCATION:Owyhee County Museum\, 17085 Basey Street\, Murphy\, ID\, 83650\, United States
ORGANIZER;CN="Rachele King":MAILTO:rking@co.owyhee.id.us
END:VEVENT
END:VCALENDAR